Workbook

Sheet Logbook
C1: No.FO.38.2.1-V0 Format Logbook Petugas Pendamping 31 Juli 2026
A7: NIM | B7: :
A8: Nama | B8: :
A9: Prodi | B9: :
A11: No | B11: Nomor Helpdesk | C11: Jenis layanan | D11: Waktu | F11: Total Menit | G11: Penerima Layanan | I11: Keterangan | J11: Dokumentasi (foto) | K11: Validasi
D12: Mulai | E12: Selesai | G12: Nama | H12: NIM | J12: NIM | K12: NIM

Sheet Dokumentasi
C1: No.FO.38.2.1-V0 Format Logbook Petugas Pendamping 31 Juli 2026
A7: NIM | B7: :
A8: Nama | B8: :
A9: Prodi | B9: :
A11: No | B11: Nomor Helpdesk | C11: Jenis layanan | D11: Dokumentasi (foto)
D12: NIM
A13: =Logbook!A13 -> 0 | B13: =Logbook!B13 -> 0 | C13: =Logbook!C13 -> 0
A14: =Logbook!A14 -> 0 | B14: =Logbook!B14 -> 0 | C14: =Logbook!C14 -> 0
A15: =Logbook!A15 -> 0 | B15: =Logbook!B15 -> 0 | C15: =Logbook!C15 -> 0
A16: =Logbook!A16 -> 0 | B16: =Logbook!B16 -> 0 | C16: =Logbook!C16 -> 0
A17: =Logbook!A17 -> 0 | B17: =Logbook!B17 -> 0 | C17: =Logbook!C17 -> 0
A18: =Logbook!A18 -> 0 | B18: =Logbook!B18 -> 0 | C18: =Logbook!C18 -> 0
A19: =Logbook!A19 -> 0 | B19: =Logbook!B19 -> 0 | C19: =Logbook!C19 -> 0
A20: =Logbook!A20 -> 0 | B20: =Logbook!B20 -> 0 | C20: =Logbook!C20 -> 0
A21: =Logbook!A21 -> 0 | B21: =Logbook!B21 -> 0 | C21: =Logbook!C21 -> 0
A22: =Logbook!A22 -> 0 | B22: =Logbook!B22 -> 0 | C22: =Logbook!C22 -> 0
A23: =Logbook!A23 -> 0 | B23: =Logbook!B23 -> 0 | C23: =Logbook!C23 -> 0
A24: =Logbook!A24 -> 0 | B24: =Logbook!B24 -> 0 | C24: =Logbook!C24 -> 0
... A33: =Logbook!A33 -> 0 | B33: =Logbook!B33 -> 0 | C33: =Logbook!C33 -> 0
